BEGIN:VCALENDAR
VERSION:2.0
PRODID:-//Casa Ponton - ECPv6.10.1.1//NONSGML v1.0//EN
CALSCALE:GREGORIAN
METHOD:PUBLISH
X-WR-CALNAME:Casa Ponton
X-ORIGINAL-URL:https://www.casaponton.be
X-WR-CALDESC:Évènements pour Casa Ponton
REFRESH-INTERVAL;VALUE=DURATION:PT1H
X-Robots-Tag:noindex
X-PUBLISHED-TTL:PT1H
BEGIN:VTIMEZONE
TZID:UTC
BEGIN:STANDARD
TZOFFSETFROM:+0000
TZOFFSETTO:+0000
TZNAME:UTC
DTSTART:20250101T000000
END:STANDARD
TZID:Europe/Brussels
BEGIN:DAYLIGHT
TZOFFSETFROM:+0100
TZOFFSETTO:+0200
TZNAME:CEST
DTSTART:20250330T010000
END:DAYLIGHT
BEGIN:STANDARD
TZOFFSETFROM:+0200
TZOFFSETTO:+0100
TZNAME:CET
DTSTART:20251026T010000
END:STANDARD
END:VTIMEZONE
BEGIN:VEVENT
DTSTART;TZID=UTC:20250207T210000
DTEND;TZID=UTC:20250207T220000
DTSTAMP:20260422T010646
CREATED:20250220T133106Z
LAST-MODIFIED:20250220T133106Z
UID:205-1738962000-1738965600@www.casaponton.be
SUMMARY:Tu La LLevas (TLLL) (Rock garage)
DESCRIPTION:Concert de dernière minute!\nLe trio allemand Tu La Llevas (TLLL) viendra mettre le feu à la Casa Ponton ce vendredi à 21h!De l’indie rock bien pêchu aux accents de Pixies ou encore Dinosaur Jr.!!!Ecouter: https://tulallevas.bandcamp.com/On vous attend!\nPrix libre\nFascistes\, sexistes\, homophobes\, racistes… foutez le camp. Ce soir\, on est là pour s’éclater\, pas pour supporter les cons.
URL:https://www.casaponton.be/evenement/tu-la-llevas-tlll-rock-garage/
CATEGORIES:Concert
ATTACH;FMTTYPE=image/jpeg:https://www.casaponton.be/wp-content/uploads/2025/02/TLLL-07-02-25.jpg
END:VEVENT
BEGIN:VEVENT
DTSTART;TZID=Europe/Brussels:20250221T200000
DTEND;TZID=Europe/Brussels:20250221T210000
DTSTAMP:20260422T010646
CREATED:20250220T132639Z
LAST-MODIFIED:20250220T132639Z
UID:202-1740168000-1740171600@www.casaponton.be
SUMMARY:CrowdKill
DESCRIPTION:Le 21 février 2025\, prépare-toi à un carnage sonore au Pavé ! On commence l’année en force avec CrowdKill\, un putain de groupe de métal qui ne fait pas dans la dentelle. Des riffs lourds\, des blast beats qui défoncent et une énergie déchaînée. Si t’es là pour du métal qui te prend aux tripes\, tu vas pas être déçu(e). \nLieu : Casa PontonHeure : 20hPrix : Participation au chapeau (conseillé 4 €)\nAu Pavé\, on aime la musique bruyante\, les cerveaux qui bouillonnent et les cœurs qui frappent fort. Si t’es queer\, rebelle\, ou juste en quête de foutre le bordel de manière respectueuse\, tu es le·la bienvenu·e. Mais si tu viens pour balancer de la haine\, de l’intolérance ou de la merde\, tu vas te faire jeter à la porte.\nAvis aux connards :Fascistes\, sexistes\, homophobes\, racistes… foutez le camp. Ce soir\, on est là pour s’éclater\, pas pour supporter les cons.\nAlors\, viens foutre du gros son dans tes oreilles\, ramène tes potes et prépare-toi à une soirée de folie. On veut du bruit\, de la sueur et de l’amour sans frontières.\nPavé dans les oreilles.
URL:https://www.casaponton.be/evenement/crowdkill/
CATEGORIES:Concert
ATTACH;FMTTYPE=image/jpeg:https://www.casaponton.be/wp-content/uploads/2025/02/crowdkill-21-02-25.jpg
END:VEVENT
END:VCALENDAR