BEGIN:VCALENDAR
VERSION:2.0
PRODID:-//Casa Ponton - ECPv6.10.1.1//NONSGML v1.0//EN
CALSCALE:GREGORIAN
METHOD:PUBLISH
X-ORIGINAL-URL:https://www.casaponton.be
X-WR-CALDESC:Évènements pour Casa Ponton
REFRESH-INTERVAL;VALUE=DURATION:PT1H
X-Robots-Tag:noindex
X-PUBLISHED-TTL:PT1H
BEGIN:VTIMEZONE
TZID:UTC
BEGIN:STANDARD
TZOFFSETFROM:+0000
TZOFFSETTO:+0000
TZNAME:UTC
DTSTART:20250101T000000
END:STANDARD
END:VTIMEZONE
BEGIN:VEVENT
DTSTART;TZID=UTC:20250307T200000
DTEND;TZID=UTC:20250307T220000
DTSTAMP:20260421T232241
CREATED:20250303T220449Z
LAST-MODIFIED:20250303T220454Z
UID:268-1741377600-1741384800@www.casaponton.be
SUMMARY:Xtreme Blues Dog
DESCRIPTION:Blues-punk-trash-garage-rock\, playing the harmonica\, kazoo\, cigar box guitar\, drums and singing\, all at the same time\, this Brazilian one man band shows his dirty view of the Blues mixed up with a lot of Rock and Roll.
URL:https://www.casaponton.be/evenement/xtreme-blues-dog/
LOCATION:Casa Ponton\, Rue de la Cité 7\, Liège\, Liège\, 4000\, Belgium
ATTACH;FMTTYPE=image/jpeg:https://www.casaponton.be/wp-content/uploads/2025/03/Image030325201048.jpg
ORGANIZER;CN="Casa Ponton":MAILTO:info@casaponton.be
END:VEVENT
END:VCALENDAR